BEGIN:VCALENDAR
VERSION:2.0
PRODID:-//Montville UNICO Foundation - ECPv6.15.17.1//NONSGML v1.0//EN
CALSCALE:GREGORIAN
METHOD:PUBLISH
X-WR-CALNAME:Montville UNICO Foundation
X-ORIGINAL-URL:https://www.montvilleunicofoundation.org
X-WR-CALDESC:Events for Montville UNICO Foundation
REFRESH-INTERVAL;VALUE=DURATION:PT1H
X-Robots-Tag:noindex
X-PUBLISHED-TTL:PT1H
BEGIN:VTIMEZONE
TZID:America/New_York
BEGIN:DAYLIGHT
TZOFFSETFROM:-0500
TZOFFSETTO:-0400
TZNAME:EDT
DTSTART:20250309T070000
END:DAYLIGHT
BEGIN:STANDARD
TZOFFSETFROM:-0400
TZOFFSETTO:-0500
TZNAME:EST
DTSTART:20251102T060000
END:STANDARD
BEGIN:DAYLIGHT
TZOFFSETFROM:-0500
TZOFFSETTO:-0400
TZNAME:EDT
DTSTART:20260308T070000
END:DAYLIGHT
BEGIN:STANDARD
TZOFFSETFROM:-0400
TZOFFSETTO:-0500
TZNAME:EST
DTSTART:20261101T060000
END:STANDARD
BEGIN:DAYLIGHT
TZOFFSETFROM:-0500
TZOFFSETTO:-0400
TZNAME:EDT
DTSTART:20270314T070000
END:DAYLIGHT
BEGIN:STANDARD
TZOFFSETFROM:-0400
TZOFFSETTO:-0500
TZNAME:EST
DTSTART:20271107T060000
END:STANDARD
END:VTIMEZONE
BEGIN:VEVENT
DTSTART;TZID=America/New_York:20260201T130000
DTEND;TZID=America/New_York:20260201T170000
DTSTAMP:20260423T192251
CREATED:20250120T181820Z
LAST-MODIFIED:20260109T210926Z
UID:2903-1769950800-1769965200@www.montvilleunicofoundation.org
SUMMARY:Sunday Pasta
DESCRIPTION:Come and enjoy a Jersey Sunday Gravy Dinner with family and friends while helping support scholarships and local charitable needs! \nSunday\, February 1\, 2026\, 1 PM Seating \nVariety of Pastas *Meatballs *Sausage *Salad *Soft Drinks *Coffee *Tea *Desserts \nItalian Music \nBYOB \nLimited Seating. Tables for 8 or more can be reserved \nPurchase Tickets Here!
URL:https://www.montvilleunicofoundation.org/event/sunday-pasta/
LOCATION:Montville Senior Center\, 356 Main Road\, Montville\, NJ\, 07045
END:VEVENT
END:VCALENDAR