BEGIN:VCALENDAR
VERSION:2.0
PRODID:-//Montville UNICO Foundation - ECPv6.15.17.1//NONSGML v1.0//EN
CALSCALE:GREGORIAN
METHOD:PUBLISH
X-WR-CALNAME:Montville UNICO Foundation
X-ORIGINAL-URL:https://www.montvilleunicofoundation.org
X-WR-CALDESC:Events for Montville UNICO Foundation
REFRESH-INTERVAL;VALUE=DURATION:PT1H
X-Robots-Tag:noindex
X-PUBLISHED-TTL:PT1H
BEGIN:VTIMEZONE
TZID:America/New_York
BEGIN:DAYLIGHT
TZOFFSETFROM:-0500
TZOFFSETTO:-0400
TZNAME:EDT
DTSTART:20250309T070000
END:DAYLIGHT
BEGIN:STANDARD
TZOFFSETFROM:-0400
TZOFFSETTO:-0500
TZNAME:EST
DTSTART:20251102T060000
END:STANDARD
BEGIN:DAYLIGHT
TZOFFSETFROM:-0500
TZOFFSETTO:-0400
TZNAME:EDT
DTSTART:20260308T070000
END:DAYLIGHT
BEGIN:STANDARD
TZOFFSETFROM:-0400
TZOFFSETTO:-0500
TZNAME:EST
DTSTART:20261101T060000
END:STANDARD
BEGIN:DAYLIGHT
TZOFFSETFROM:-0500
TZOFFSETTO:-0400
TZNAME:EDT
DTSTART:20270314T070000
END:DAYLIGHT
BEGIN:STANDARD
TZOFFSETFROM:-0400
TZOFFSETTO:-0500
TZNAME:EST
DTSTART:20271107T060000
END:STANDARD
END:VTIMEZONE
BEGIN:VEVENT
DTSTART;TZID=America/New_York:20260512T190000
DTEND;TZID=America/New_York:20260512T210000
DTSTAMP:20260423T155115
CREATED:20161227T182731Z
LAST-MODIFIED:20260109T203450Z
UID:1592-1778612400-1778619600@www.montvilleunicofoundation.org
SUMMARY:Board Meeting via Zoom
DESCRIPTION:Details provided via email prior to the meeting.
URL:https://www.montvilleunicofoundation.org/event/board-meeting-05-2026/
LOCATION:Zoom Meeting\, NJ
END:VEVENT
END:VCALENDAR