BEGIN:VCALENDAR
VERSION:2.0
PRODID:-//Montville UNICO Foundation - ECPv6.15.17.1//NONSGML v1.0//EN
CALSCALE:GREGORIAN
METHOD:PUBLISH
X-ORIGINAL-URL:https://www.montvilleunicofoundation.org
X-WR-CALDESC:Events for Montville UNICO Foundation
REFRESH-INTERVAL;VALUE=DURATION:PT1H
X-Robots-Tag:noindex
X-PUBLISHED-TTL:PT1H
BEGIN:VTIMEZONE
TZID:America/New_York
BEGIN:DAYLIGHT
TZOFFSETFROM:-0500
TZOFFSETTO:-0400
TZNAME:EDT
DTSTART:20250309T070000
END:DAYLIGHT
BEGIN:STANDARD
TZOFFSETFROM:-0400
TZOFFSETTO:-0500
TZNAME:EST
DTSTART:20251102T060000
END:STANDARD
BEGIN:DAYLIGHT
TZOFFSETFROM:-0500
TZOFFSETTO:-0400
TZNAME:EDT
DTSTART:20260308T070000
END:DAYLIGHT
BEGIN:STANDARD
TZOFFSETFROM:-0400
TZOFFSETTO:-0500
TZNAME:EST
DTSTART:20261101T060000
END:STANDARD
BEGIN:DAYLIGHT
TZOFFSETFROM:-0500
TZOFFSETTO:-0400
TZNAME:EDT
DTSTART:20270314T070000
END:DAYLIGHT
BEGIN:STANDARD
TZOFFSETFROM:-0400
TZOFFSETTO:-0500
TZNAME:EST
DTSTART:20271107T060000
END:STANDARD
END:VTIMEZONE
BEGIN:VEVENT
DTSTART;TZID=America/New_York:20260425T180000
DTEND;TZID=America/New_York:20260425T220000
DTSTAMP:20260423T133228
CREATED:20240229T135537Z
LAST-MODIFIED:20260309T163923Z
UID:2836-1777140000-1777154400@www.montvilleunicofoundation.org
SUMMARY:Texas Hold'Em
DESCRIPTION:Calling all poker players!\n \nPlay for charity and help Montville UNICO on April 25\, 2026 at the Montville Senior House\, 6pm. \nAll proceeds to benefit Montville UNICO Foundation Charitable Goals and Educational Grants \nRegister Here!
URL:https://www.montvilleunicofoundation.org/event/texas-holdem-2026/
LOCATION:Montville Senior Center\, 356 Main Road\, Montville\, NJ\, 07045
END:VEVENT
BEGIN:VEVENT
DTSTART;TZID=America/New_York:20260428T190000
DTEND;TZID=America/New_York:20260428T210000
DTSTAMP:20260423T133228
CREATED:20151210T014808Z
LAST-MODIFIED:20260109T204131Z
UID:1242-1777402800-1777410000@www.montvilleunicofoundation.org
SUMMARY:General Meeting
DESCRIPTION:
URL:https://www.montvilleunicofoundation.org/event/chapter-meeting-04-2026/
LOCATION:The Columbia Inn\, 29 Main Road\, Montville\, NJ\, 07045
END:VEVENT
END:VCALENDAR